BEGIN:VCALENDAR
VERSION:2.0
PRODID:-//ChamberMaster//Event Calendar 2.0//EN
METHOD:PUBLISH
X-PUBLISHED-TTL:P3D
REFRESH-INTERVAL:P3D
CALSCALE:GREGORIAN
BEGIN:VEVENT
DTSTART:20240901T220000Z
DTEND:20240902T000000Z
X-MICROSOFT-CDO-ALLDAYEVENT:FALSE
SUMMARY:Swingin At The Shell | Elton Rohn (Elton John Tribute Band)
DESCRIPTION:Don your feather boas and prepare to sing your heart out! This Elton John tribute band will have you dancing in the aisles and celebrating the Rocket Man's iconic music\, from the flamboyant costumes to the unforgettable piano melodies\, this is a tribute show you won't want to miss.
X-ALT-DESC;FMTTYPE=text/html:Don your feather boas and prepare to sing your heart out! This Elton John tribute band will have you dancing in the aisles and celebrating the Rocket Man&rsquo\;s iconic music\, from the flamboyant costumes to the unforgettable piano melodies\, this is a tribute show you won&rsquo\;t want to miss.
LOCATION:Victory Park Bandshell
UID:e.3462.3191
SEQUENCE:3
DTSTAMP:20260419T193906Z
URL:https://www.greateralbionchamber.org/events/details/swingin-at-the-shell-elton-rohn-elton-john-tribute-band-3191
END:VEVENT

END:VCALENDAR
