BEGIN:VCALENDAR
VERSION:2.0
PRODID:-//ChamberMaster//Event Calendar 2.0//EN
METHOD:PUBLISH
X-PUBLISHED-TTL:P3D
REFRESH-INTERVAL:P3D
CALSCALE:GREGORIAN
BEGIN:VEVENT
DTSTART:20190717T160000Z
DTEND:20190717T170000Z
X-MICROSOFT-CDO-ALLDAYEVENT:FALSE
SUMMARY:Grow with Google Livstream
DESCRIPTION:Join us at the Chamber for July's Grow with Google Livesteam Event. For FREE\, listen to Google professionals share their insights on how to effectively use digital tools to enhance businesses. \n\nThe event is BYOL (Bring Your Own Lunch)\, and those in attendance will receive Google goody bags.\n\nLet us know you're coming by clicking the link below: https://community.grow.google/s/event/a0r1E00000BhU9c/workshop-20190717?fbclid=IwAR2Zkf1VvJ2tUAV6LR2vjDag9IY7FcqGQ_33ZQfXvG6aofLrqXtZhFXJt0o\n\nHope to see you there!
X-ALT-DESC;FMTTYPE=text/html:<span style="color: rgb(29\, 33\, 41)\; font-family: Helvetica\, Arial\, sans-serif\; font-size: 14px\; white-space: pre-wrap\; background-color: rgb(255\, 255\, 255)\;">Join us at the Chamber for July&#39\;s Grow with Google Livesteam Event. For FREE\, listen to Google professionals share their insights on how to effectively use digital tools to enhance businesses. </span><br style="color: rgb(29\, 33\, 41)\; font-family: Helvetica\, Arial\, sans-serif\; font-size: 14px\; white-space: pre-wrap\; background-color: rgb(255\, 255\, 255)\;" />\n<span style="color: rgb(29\, 33\, 41)\; font-family: Helvetica\, Arial\, sans-serif\; font-size: 14px\; white-space: pre-wrap\; background-color: rgb(255\, 255\, 255)\;">The event is BYOL (Bring Your Own Lunch)\, and those in attendance will receive Google goody bags.</span><br style="color: rgb(29\, 33\, 41)\; font-family: Helvetica\, Arial\, sans-serif\; font-size: 14px\; white-space: pre-wrap\; background-color: rgb(255\, 255\, 255)\;" />\n<span style="color: rgb(29\, 33\, 41)\; font-family: Helvetica\, Arial\, sans-serif\; font-size: 14px\; white-space: pre-wrap\; background-color: rgb(255\, 255\, 255)\;">Let us know you&#39\;re coming by clicking the link below: <a href="https://community.grow.google/s/event/a0r1E00000BhU9c/workshop-20190717?fbclid=IwAR2Zkf1VvJ2tUAV6LR2vjDag9IY7FcqGQ_33ZQfXvG6aofLrqXtZhFXJt0o">https://community.grow.google/s/event/a0r1E00000BhU9c/workshop-20190717?fbclid=IwAR2Zkf1VvJ2tUAV6LR2vjDag9IY7FcqGQ_33ZQfXvG6aofLrqXtZhFXJt0o</a></span><br style="color: rgb(29\, 33\, 41)\; font-family: Helvetica\, Arial\, sans-serif\; font-size: 14px\; white-space: pre-wrap\; background-color: rgb(255\, 255\, 255)\;" />\n<span style="color: rgb(29\, 33\, 41)\; font-family: Helvetica\, Arial\, sans-serif\; font-size: 14px\; white-space: pre-wrap\; background-color: rgb(255\, 255\, 255)\;">Hope to see you there! </span>
LOCATION:
UID:e.3462.809
SEQUENCE:3
DTSTAMP:20260425T011745Z
URL:https://www.greateralbionchamber.org/events/details/grow-with-google-livstream-809
END:VEVENT

END:VCALENDAR
