BEGIN:VCALENDAR
VERSION:2.0
PRODID:-//ChamberMaster//Event Calendar 2.0//EN
METHOD:PUBLISH
X-PUBLISHED-TTL:P3D
REFRESH-INTERVAL:P3D
CALSCALE:GREGORIAN
BEGIN:VEVENT
DTSTART:20190615T130000Z
DTEND:20190615T180000Z
X-MICROSOFT-CDO-ALLDAYEVENT:FALSE
SUMMARY:French Market
DESCRIPTION:The French Market (March  Fran ais) is an annual event in downtown Albion\, Michigan\, hosted by the Albion Sister City Committee and the Albion Farmer's Market\, featuring local vendors of produce\, plants\, food\, handmade items\, baked goods\, books\, antiques\, and live music.
X-ALT-DESC;FMTTYPE=text/html:<span style="background-color:rgb(255\, 255\, 255)\; color:rgb(28\, 30\, 33)\; font-family:helvetica\,arial\,sans-serif\; font-size:12px">The French Market (March&eacute\; Fran&ccedil\;ais) is an annual event in downtown Albion\, Michigan\, hosted by the Albion Sister City Committee and the Albion Farmer&#39\;s Market\, featuring local vendors of produce\, plants\, food\, handmade items\, baked goods\, books\, antiques\, and live music.</span>
LOCATION:Stoffer Market Plaza
UID:e.3462.546
SEQUENCE:3
DTSTAMP:20260422T042047Z
URL:https://www.greateralbionchamber.org/events/details/french-market-546
END:VEVENT

END:VCALENDAR
