BEGIN:VCALENDAR
VERSION:2.0
PRODID:-//ChamberMaster//Event Calendar 2.0//EN
METHOD:PUBLISH
X-PUBLISHED-TTL:P3D
REFRESH-INTERVAL:P3D
CALSCALE:GREGORIAN
BEGIN:VEVENT
DTSTART:20220327T200000Z
DTEND:20220327T220000Z
X-MICROSOFT-CDO-ALLDAYEVENT:FALSE
SUMMARY:Chess Nuts (Open Chess)
DESCRIPTION:Budding\, average and expert chess players - Join us on the Fourth Sunday of every month at Stirling! \n\nPlay against others or bring your opponent with you. Play to win or learn to play! \n\nNo charge\, all fun.
X-ALT-DESC;FMTTYPE=text/html:<span style="color: rgb(29\, 33\, 41)\; font-family: Helvetica\, Arial\, sans-serif\; font-size: 14px\; white-space: pre-wrap\;">Budding\, average and expert chess players - Join us on the Fourth Sunday of every month at Stirling! </span><br style="color: rgb(29\, 33\, 41)\; font-family: Helvetica\, Arial\, sans-serif\; font-size: 14px\; white-space: pre-wrap\;" />\n<span style="color: rgb(29\, 33\, 41)\; font-family: Helvetica\, Arial\, sans-serif\; font-size: 14px\; white-space: pre-wrap\;">Play against others or bring your opponent with you. Play to win or learn to play! </span><br style="color: rgb(29\, 33\, 41)\; font-family: Helvetica\, Arial\, sans-serif\; font-size: 14px\; white-space: pre-wrap\;" />\n<span style="color: rgb(29\, 33\, 41)\; font-family: Helvetica\, Arial\, sans-serif\; font-size: 14px\; white-space: pre-wrap\;">No charge\, all fun.</span>
LOCATION:Stirling Books & Brew
UID:e.3462.2088
SEQUENCE:3
DTSTAMP:20260423T201247Z
URL:https://www.greateralbionchamber.org/events/details/chess-nuts-open-chess-03-27-2022-2088
END:VEVENT

END:VCALENDAR
