BEGIN:VCALENDAR
VERSION:2.0
PRODID:-//ChamberMaster//Event Calendar 2.0//EN
METHOD:PUBLISH
X-PUBLISHED-TTL:P3D
REFRESH-INTERVAL:P3D
CALSCALE:GREGORIAN
BEGIN:VEVENT
DTSTART:20190703T230000Z
DTEND:20190704T010000Z
X-MICROSOFT-CDO-ALLDAYEVENT:FALSE
SUMMARY:Caring Community Church Free Family Fun Night
DESCRIPTION:
X-ALT-DESC;FMTTYPE=text/html:
LOCATION:
UID:e.3462.777
SEQUENCE:3
DTSTAMP:20260425T013658Z
URL:https://www.greateralbionchamber.org/events/details/caring-community-church-free-family-fun-night-777
END:VEVENT

END:VCALENDAR
