BEGIN:VCALENDAR
VERSION:2.0
PRODID:-//ChamberMaster//Event Calendar 2.0//EN
METHOD:PUBLISH
X-PUBLISHED-TTL:P3D
REFRESH-INTERVAL:P3D
CALSCALE:GREGORIAN
BEGIN:VEVENT
DTSTART:20190704T010000Z
DTEND:20190704T013000Z
X-MICROSOFT-CDO-ALLDAYEVENT:FALSE
SUMMARY:Albion Fireworks
DESCRIPTION:Albion's Annual Fireworks Celebration.\n\nDonations can be made to:\n\nAlbion Fireworks\n\nPO Box 238\n\nAlbion\, MI 49224
X-ALT-DESC;FMTTYPE=text/html:Albion&#39\;s Annual Fireworks Celebration.<br />\nDonations can be made to:<br />\nAlbion Fireworks<br />\nPO Box 238<br />\nAlbion\, MI 49224
LOCATION:Fireworks will be launched over the Kalamazoon River near Barnes Park.
UID:e.3462.146
SEQUENCE:3
DTSTAMP:20260425T012217Z
URL:https://www.greateralbionchamber.org/events/details/albion-fireworks-146
END:VEVENT

END:VCALENDAR
