BEGIN:VCALENDAR
VERSION:2.0
PRODID:-//ChamberMaster//Event Calendar 2.0//EN
METHOD:PUBLISH
X-PUBLISHED-TTL:P3D
REFRESH-INTERVAL:P3D
CALSCALE:GREGORIAN
BEGIN:VEVENT
DTSTART:20230916T160000Z
DTEND:20230916T190000Z
X-MICROSOFT-CDO-ALLDAYEVENT:FALSE
SUMMARY:Albion College Football Home Opener
DESCRIPTION:Albion College Vs Rose-Hulman
X-ALT-DESC;FMTTYPE=text/html:Albion College Vs Rose-Hulman
LOCATION:Sprankle-Sprandel Stadium 405 S. Hannah St. Albion\, MI 49224
UID:e.3462.2910
SEQUENCE:3
DTSTAMP:20260423T165006Z
URL:https://www.greateralbionchamber.org/events/details/albion-college-football-home-opener-2910
END:VEVENT

END:VCALENDAR
